BEGIN:VCALENDAR
VERSION:2.0
PRODID:-//Manises - ECPv5.14.2.1//NONSGML v1.0//EN
CALSCALE:GREGORIAN
METHOD:PUBLISH
X-WR-CALNAME:Manises
X-ORIGINAL-URL:https://manisescityofceramics.es
X-WR-CALDESC:Eventos para Manises
REFRESH-INTERVAL;VALUE=DURATION:PT1H
X-Robots-Tag:noindex
X-PUBLISHED-TTL:PT1H
BEGIN:VTIMEZONE
TZID:UTC
BEGIN:STANDARD
TZOFFSETFROM:+0000
TZOFFSETTO:+0000
TZNAME:UTC
DTSTART:20210101T000000
END:STANDARD
END:VTIMEZONE
BEGIN:VEVENT
DTSTART;VALUE=DATE:20210907
DTEND;VALUE=DATE:20211021
DTSTAMP:20260420T072204
CREATED:20210907T152251Z
LAST-MODIFIED:20210907T152251Z
UID:9449-1630972800-1634774399@manisescityofceramics.es
SUMMARY:Exposición: Recorrido por las Ciudades Creativas de la UNESCO
DESCRIPTION:Recorrido por las Ciudades Creativas de la UNESCO es una exposición que se presenta en el marco de la candidatura de Manises para ingresar en esta prestigiosa red internacional. \n\nDe este modo\, desde el día 10 de septiembre hasta el 20 de octubre\, la Casa de Cultura acogerá en su claustro posters correspondientes a ciudades que ya pertenecen a la red en la categoría de Artesanía y Artes Populares. \nEstá organizada por el Ayuntamiento de Manises\, y sus comisarias son María José Viñals\, Anna Sanasaryan y Lola Teruel de la Universitat Politècnica de València\, institución esta que se ha encargado de la redacción del dossier de la candidatura. \nEntre los ayuntamientos expositores se encuentra: Baguio (Filipinas)\, Barcelones (Portugal)\, Chiang Mai (Tailandia)\, Gabrovo (Bulgaria)\, Limoges (Francia) y Madaba (Jordania) \nLa intención de esta exposición es dar a conocer la creatividad artesanal y artística de las ciudades que ya han sido designadas por la UNESCO para que la sociedad de Manises vaya familiarizándose con las urbes con las que colaborará habitualmente en proyectos e iniciativas culturales caso de que sea seleccionada el próximo mes de octubre. \nHorario: de lunes a viernes de 9.30 a 13.00 horas y de 16.00 a 21.00 horas \nLugar: claustro Casa Cultura de Manises. Calle Mayor\, 91.
URL:https://manisescityofceramics.es/evento/exposicion-recorrido-por-las-ciudades-creativas-de-la-unesco/
ATTACH;FMTTYPE=image/jpeg:https://manisescityofceramics.es/wp-content/uploads/2021/09/Expo-Ciudades-Creativas_Unesco.jpg
END:VEVENT
BEGIN:VEVENT
DTSTART;VALUE=DATE:20211014
DTEND;VALUE=DATE:20220111
DTSTAMP:20260420T072204
CREATED:20211020T133942Z
LAST-MODIFIED:20211020T133942Z
UID:9504-1634169600-1641859199@manisescityofceramics.es
SUMMARY:Exposición: Descubre Manises
DESCRIPTION:Por primera vez la Asociación Fotográfica de Manises expone en el aeropuerto de Manises.\n\n\n\nUn escaparate perfecto para mostrar a visitantes y turistas nuestra localidad y su cerámica a través de la exposición «Descubre Manises»\n\n\nLugar: terminal de llegadas del aeropuerto de Manises\nFechas: del 14 de octubre 2021 al 10 de enero 2022
URL:https://manisescityofceramics.es/evento/exposicion-descubre-manises-2/
ATTACH;FMTTYPE=image/jpeg:https://manisescityofceramics.es/wp-content/uploads/2021/10/afm.jpg
END:VEVENT
BEGIN:VEVENT
DTSTART;VALUE=DATE:20211014
DTEND;VALUE=DATE:20211015
DTSTAMP:20260420T072204
CREATED:20211021T062949Z
LAST-MODIFIED:20211021T062949Z
UID:9561-1634169600-1634255999@manisescityofceramics.es
SUMMARY:Encuentro virtual ciudades creativas: Sant Julià de Lòria
DESCRIPTION:Manises se ha reunido telemáticamente con Sant Julià de Lòria\, en Andorra\, con el fin de intercambiar experiencias en relación a la candidatura de la Unesco en la que ambas ciudades se encuentran inmersas en la actualidad. \nLa ciudad andorrana se postula este año a ser ciudad creativa de la Unesco al mismo ámbito que Manises\, en la modalidad de Artesanía y Artes Populares. Recordemos que el primer corte de selección que Manises superó antes del verano era excluyente a nivel nacional\, mientras que la actual selección no lo es. \nA la reunión han asistido el alcalde de Manises\, Jesús Borrás y Sanchis; el concejal de Turismo\, Ángel Mora; el concejal de Promoción de la Cerámica\, Xavier Morant; y el técnico de Turismo\, David Prieto. Mientras que por la parte de Sant Julià los asistentes han sido 6 personas implicadas en el proyecto entre los que se encontraba el cónsul.
URL:https://manisescityofceramics.es/evento/encuentro-virtual-ciudades-creativas-sant-julia-de-loria/
ATTACH;FMTTYPE=image/jpeg:https://manisescityofceramics.es/wp-content/uploads/2021/10/sant-julia.jpg
END:VEVENT
BEGIN:VEVENT
DTSTART;VALUE=DATE:20211015
DTEND;VALUE=DATE:20211016
DTSTAMP:20260420T072204
CREATED:20211021T064114Z
LAST-MODIFIED:20211021T064114Z
UID:9568-1634256000-1634342399@manisescityofceramics.es
SUMMARY:Rutas turísticas en l'Horta Sud
DESCRIPTION:La Mancomunidad Intermunicipal de l’Horta Sud\, a la cual pertenece Manises\, ha impulsado las primeras rutas turísticas con el objetivo de dar a conocer el enorme patrimonio que atesora la comarca. \nEntre las primeras ruta\, una será en Manises: «La cerámica de Manises y los azudes del Turia» organizada por Horta Viva. \nPróximamente la Mancomunidad difundirá el primer calendario de rutas y toda la información para que los interesados contacten directamente con las empresas.
URL:https://manisescityofceramics.es/evento/rutas-turisticas-en-lhorta-sud/
ATTACH;FMTTYPE=image/jpeg:https://manisescityofceramics.es/wp-content/uploads/2021/10/manises.jpg
END:VEVENT
BEGIN:VEVENT
DTSTART;VALUE=DATE:20211018
DTEND;VALUE=DATE:20211029
DTSTAMP:20260420T072204
CREATED:20211020T135955Z
LAST-MODIFIED:20211020T135955Z
UID:9528-1634515200-1635465599@manisescityofceramics.es
SUMMARY:Exposición: Filmonster Ceramic\, Escuela de Cerámica de Manises.
DESCRIPTION:Desde hoy  hasta el próximo 28 de octubre puedes disfrutar de la exposición: Filmonster Ceramic en la Casa de Cultura de Manises.\n\n\n\nUna exposición en la que se exhiben las piezas que han creado los alumnos y alumnas de la Escuela de Cerámica de Manises. Mediante cerámica han retratado grandes iconos del cine clásico del género con motivo de la reciente edición del Festival de Cine Fantástico de Manises – Maniatic.\n\n\nLugar: Sala Ceramista Gimeno – Casa Cultura. Calle Mayor\, 91.\nFechas: del 18 al 28 de octubre 2021.
URL:https://manisescityofceramics.es/evento/exposicion-filmonster-ceramic-escuela-de-ceramica-de-manises/
ATTACH;FMTTYPE=image/jpeg:https://manisescityofceramics.es/wp-content/uploads/2021/10/245804847_4533947123307099_9138106440081119672_n.jpg
END:VEVENT
BEGIN:VEVENT
DTSTART;VALUE=DATE:20211021
DTEND;VALUE=DATE:20211022
DTSTAMP:20260420T072204
CREATED:20211020T134655Z
LAST-MODIFIED:20211020T134758Z
UID:9511-1634774400-1634860799@manisescityofceramics.es
SUMMARY:Espectáculo: Pandora\, música y cerámica de la mano del Ateneo Cultural.
DESCRIPTION:Compartimos la actuación «Pandora» que el Ateneo Cultural Ciudad de Manises realizó el pasado día 21 de septiembre en el Auditorio Germanías y posteriormente en la Feria de las Comarcas de la plaza del Ayuntamiento de València\, con motivo de nuestra candidatura a Ciudad Creativa de la Unesco. \n\n\n\nLa combinación perfecta entre cerámica y música.\n\n\n \n\n\nPuedes ver la actuación completa en el siguiente enlace: https://www.youtube.com/watch?v=sEjwVRhzCSc
URL:https://manisescityofceramics.es/evento/espectaculo-pandora-musica-y-ceramica-de-la-mano-del-ateneo-cultural/
ATTACH;FMTTYPE=image/jpeg:https://manisescityofceramics.es/wp-content/uploads/2021/10/242667724_4303931776328242_8303079220493367894_n.jpg
END:VEVENT
BEGIN:VEVENT
DTSTART;VALUE=DATE:20211022
DTEND;VALUE=DATE:20211024
DTSTAMP:20260420T072204
CREATED:20211020T132953Z
LAST-MODIFIED:20211020T132953Z
UID:9496-1634860800-1635033599@manisescityofceramics.es
SUMMARY:Jornada Técnica de la AeCC: "Cerámica y Sostenibilidad" y Premios Nacionales de la Cerámica
DESCRIPTION:Los próximos 22 y 23 de octubre Manises participa en la Asamblea General\, la Jornada Técnica: Cerámica y Sostenibilidad así como en la gala de entrega de los VIII Premios Nacional de Cerámica que tendrá lugar en la localidad de Bailén\, provincia de Jaén. \n  \nLa jornada técnica contará con los siguientes actos: \nPonencia: Viabilidad de venta de un producto verde y sostenible. Impartida por Francisco Corpas. Catedrático de la Universidad Politécnica de Linares. \nPonencia: ¿Por qué la cerámica puede ser un producto sostenible? Impartida por Juan Jesús Padilla Fernández. Universidad de Salamanca. \nMesa redonda: ¿Cómo puede contribuir la cerámica a hacer un mundo sostenible y respetuoso con el medio ambiente? \nModerador: Juan Jesús Padilla\, profesor de la Universidad de Salamanca y concejal de Patrimonio Histórico\, Artesanía y Cerámica de Bailén. \n\nWladimir Vivas\, ceramista y director de Infoceramica.com.\nFrancisco Corpas. Catedrático de la Universidad Politécnica de Linares.\nM. Jesús Pérez Lozano\, presidenta de la Asociación Española de Ciudades de la Cerámica\nXavier Morant\, ceramista\, concejal de Promoción de la Cerámica de Manises y presidente de la Agrupación Europea de Ciudades de la Cerámica.\nJuan Pablo Martínez “Tito”\, alfarero de Úbeda y profesor de cerámica.\n\nComunicaciones: Experiencias sobre cerámica y sostenibilidad.\n\nPresentación del spot “Más Cerámica Menos Plástico” realizado por el Excmo. Ayuntamiento de Bailén.\nBiomasa y producción de cerámica. Factores sobre su sostenibilidad medioambiental (título provisional). A cargo de Wladimir Vivas\, ceramista y director de Infoceramica.com.\nRecuperar la cerámica de uso. A cargo de Xavier Morant\, concejal de Promoción de la Cerámica de Manises y presidente de la Agrupación Europea de Ciudades de la Cerámica.\n“Botijos contra el cambio climático”\, iniciativa del Museu del Càntir de Argentona y la Fundación Terra para dar nueva vida a los botijos como recipientes de alta sostenibilidad. A cargo de Oriol Calvo\, director del museo de Argentona.\nBowtery: Cerámica\, moda y sostenibilidad en La Rambla. A cargo de Luis Torres\, fundador de Bowtery y maestro del taller de técnicas cerámicas en la Escuela de Arte de Jerez.\n\nActividad de plantación de macetas en las palmeras (Actividad colectiva- Centros educativos\, colectivos y asociaciones culturales de Bailén) \nTaller “El arte de hacer cerámica al aire libre”. A cargo de Alfareros de Bailén. Ubicación: cabecera de las Palmeras. \nGALA DE ENTREGA DE LOS VIII PREMIOS NACIONALES DE CERÁMICA otorgados por la Asociación Española de Ciudad de Ciudades de la Cerámica. \n\n\n\n\n\n\n\n\n\n\n\n\n\n\n\n\n\n\n\n\n\n\n\n\n\n\n\n\n\n\n\n\n\nOrganizado por la AeCC (Asociación Española de Ciudades de la Cerámica) y el Ayuntamiento de Bailén. \nMás información: www.ciudades-ceramica.com
URL:https://manisescityofceramics.es/evento/jornada-tecnica-de-la-aecc-ceramica-y-sostenibilidad-y-premios-nacionales-de-la-ceramica/
ATTACH;FMTTYPE=image/jpeg:https://manisescityofceramics.es/wp-content/uploads/2021/10/cartel-promocional-jornada.jpg
END:VEVENT
BEGIN:VEVENT
DTSTART;VALUE=DATE:20211025
DTEND;VALUE=DATE:20211026
DTSTAMP:20260420T072204
CREATED:20211027T093828Z
LAST-MODIFIED:20211027T093828Z
UID:9583-1635120000-1635206399@manisescityofceramics.es
SUMMARY:VIII Premios Nacionales de Cerámica
DESCRIPTION:El sábado tuvo lugar la gala de entrega de los VIII Premios Nacionales de Cerámica otorgados por la Asociación Española de Ciudades de la Cerámica.\n\n\n\nEn la modalidad “Cerámica Creativa Contemporánea” los ganadores fueron Drac Ceramic.\n\n\n\nEntre los finalistas del resto de categorías Manises estuvo muy presente:\nRafa Mora: categoría Cerámica tradicional\nANPEC: Actividad en favor de la cerámica\nAndrés Ballesteros: Investigación histórica\n\n\n\nAdemás\, anunciaros también que Arturo Mora obtuvo el segundo premio del V Concurso Internacional de Cerámica Artística “Ciudad de Bailén”.\n\n\n\n¡Enhorabuena a los ganadores y finalistas!\nLa cerámica de Manises viva y presente.
URL:https://manisescityofceramics.es/evento/viii-premios-nacionales-de-ceramica/
ATTACH;FMTTYPE=image/jpeg:https://manisescityofceramics.es/wp-content/uploads/2021/10/248346377_4557715984263546_3689189869936781287_n.jpg
END:VEVENT
BEGIN:VEVENT
DTSTART;VALUE=DATE:20211027
DTEND;VALUE=DATE:20211028
DTSTAMP:20260420T072204
CREATED:20211020T135215Z
LAST-MODIFIED:20211020T135348Z
UID:9521-1635292800-1635379199@manisescityofceramics.es
SUMMARY:XV Bienal Internacional de Cerámica de Manises
DESCRIPTION:En 2022 volverá la XV Bienal Internacional de Cerámica de Manises organizado por el Ayuntamiento de Manises.\n\n\n\nInscripciones hasta el 15 de noviembre de 2021.\n\n  \nToda la información en el siguiente enlace: \nhttps://www.museumanises.es/va/carrusel-page/convocatoria-xv-biennal-internacional-ceramica-manises-2022?fbclid=IwAR2L4QbsYtHWn2_fXD5gnHfvwtpNNKr5y9qHtVE7Zbs4bUyS_Zlf6I5UWw8
URL:https://manisescityofceramics.es/evento/xv-bienal-internacional-de-ceramica-de-manises/
ATTACH;FMTTYPE=image/png:https://manisescityofceramics.es/wp-content/uploads/2021/10/bienal.png
END:VEVENT
BEGIN:VEVENT
DTSTART;TZID=UTC:20220606T193000
DTEND;TZID=UTC:20220910T193000
DTSTAMP:20260420T072204
CREATED:20220614T113607Z
LAST-MODIFIED:20220614T114332Z
UID:9756-1654543800-1662838200@manisescityofceramics.es
SUMMARY:Inauguración de la exposición "donde vamos." de Carie Oltmann.
DESCRIPTION:Artista ganadora del Premi disseny de producte Citutat de Manises\, de la XIV edición de la BICM 2019 (del 6 de junio al 10 de septiembre de 2022). Museo de Cerámica de Manises. C/ del Sagrari\, 22. A las 19:30 h.
URL:https://manisescityofceramics.es/evento/inauguracion-de-la-exposicion-donde-vamos-de-carie-oltmann/
LOCATION:Museu de Ceràmica de Manises\, Carrer del Sagrari\, 22\, Manises\, Valencia\, 46940\, España
ATTACH;FMTTYPE=image/png:https://manisescityofceramics.es/wp-content/uploads/2022/06/Captura-de-pantalla-2022-06-14-a-las-13.38.36.png
END:VEVENT
BEGIN:VEVENT
DTSTART;TZID=UTC:20220609T193000
DTEND;TZID=UTC:20220910T193000
DTSTAMP:20260420T072204
CREATED:20220614T114953Z
LAST-MODIFIED:20220614T114953Z
UID:9810-1654803000-1662838200@manisescityofceramics.es
SUMMARY:Inauguración de la exposición "Casa 8" de Uxue López Iruretagoyena.
DESCRIPTION:Artista ganadora del Premi President de la Generalitat Valenciana\, de la XIV edición de la BICM 2019 (del 9 de junio al 10 de septiembre de 2022). Casa de Cultura de Manises. Carrer Major\, 91. A las 19:30 h.
URL:https://manisescityofceramics.es/evento/inauguracion-de-la-exposicion-casa-8-de-uxue-lopez-iruretagoyena/
LOCATION:Casa de Cultura y Juventud de Manises\, Calle mayor\, 91\, Manises\, Valencia\, 46940\, España
ATTACH;FMTTYPE=image/png:https://manisescityofceramics.es/wp-content/uploads/2022/06/Captura-de-pantalla-2022-06-14-a-las-13.38.42.png
END:VEVENT
BEGIN:VEVENT
DTSTART;TZID=UTC:20220610T120000
DTEND;TZID=UTC:20220610T130000
DTSTAMP:20260420T072204
CREATED:20220614T115453Z
LAST-MODIFIED:20220614T115453Z
UID:9815-1654862400-1654866000@manisescityofceramics.es
SUMMARY:Rueda de Prensa
DESCRIPTION:Hall sala Els Filtres. Avinguda dels Tramvies\, 19\, Manises. A las 12.00 h.
URL:https://manisescityofceramics.es/evento/rueda-de-prensa/
END:VEVENT
BEGIN:VEVENT
DTSTART;TZID=UTC:20220610T193000
DTEND;TZID=UTC:20220610T193000
DTSTAMP:20260420T072204
CREATED:20220614T115722Z
LAST-MODIFIED:20220614T115722Z
UID:9817-1654889400-1654889400@manisescityofceramics.es
SUMMARY:Inauguración de la XV Bienal Internacional de Cerámica de Manises
DESCRIPTION:Sala de exposiciones ‘Els Filtres’. Avinguda dels Tramvies\, 19. A las 19:30 h.
URL:https://manisescityofceramics.es/evento/inauguracion-de-la-xv-bienal-internacional-de-ceramica-de-manises/
ATTACH;FMTTYPE=image/jpeg:https://manisescityofceramics.es/wp-content/uploads/2022/06/A-GENERAL-BANNER-EXPO-XV-BIENNAL.jpeg
END:VEVENT
BEGIN:VEVENT
DTSTART;TZID=UTC:20220610T203000
DTEND;TZID=UTC:20220610T203000
DTSTAMP:20260420T072204
CREATED:20220614T115940Z
LAST-MODIFIED:20220614T115940Z
UID:9819-1654893000-1654893000@manisescityofceramics.es
SUMMARY:Entrega de premios de la XV Bienal Internacional de Cerámica de Manises
DESCRIPTION:Clausura el acto la actuación del Grupo de Cámara Giuseppe Verdi. Jardín Els Filtres. Avinguda dels Tramvies\, 19. A las 20:30 h
URL:https://manisescityofceramics.es/evento/entrega-de-premios-de-la-xv-bienal-internacional-de-ceramica-de-manises/
END:VEVENT
BEGIN:VEVENT
DTSTART;TZID=UTC:20220611T110000
DTEND;TZID=UTC:20220611T110000
DTSTAMP:20260420T072204
CREATED:20220614T120314Z
LAST-MODIFIED:20220614T120314Z
UID:9821-1654945200-1654945200@manisescityofceramics.es
SUMMARY:Conferencia de Antonio González Pedraza sobre la obra de Hisae Yanase.
DESCRIPTION:Ceramista\, pintor\, escultor y fotógrafo. Actualmente profesor de cerámica en la Escuela de Arte de Sevilla y conocedor de la obra de Hisae Yanase. MUMAF\, (Museo de la Fotografía\, sala alternativa\, edificio «El Arte»). Av. dels Tramvies\, 15. A las 11:00 h.
URL:https://manisescityofceramics.es/evento/conferencia-de-antonio-gonzalez-pedraza-sobre-la-obra-de-hisae-yanase/
END:VEVENT
BEGIN:VEVENT
DTSTART;TZID=UTC:20220611T120000
DTEND;TZID=UTC:20220910T120000
DTSTAMP:20260420T072204
CREATED:20220614T134145Z
LAST-MODIFIED:20220614T134145Z
UID:9823-1654948800-1662811200@manisescityofceramics.es
SUMMARY:Inauguración de la exposición "Sappari" de Hisae Yanase.
DESCRIPTION:Homenaje a la artista. (Del 11 de junio al 10 de septiembre de 2022). Sala de exposiciones MUMAF\, (Museo de la Fotografía\, sala alternativa\, edificio «El Arte»). Av. dels Tramvies\, 15. A las 12:00 h.
URL:https://manisescityofceramics.es/evento/inauguracion-de-la-exposicion-sappari-de-hisae-yanase/
ATTACH;FMTTYPE=image/png:https://manisescityofceramics.es/wp-content/uploads/2022/06/Captura-de-pantalla-2022-06-14-a-las-13.38.48.png
END:VEVENT
BEGIN:VEVENT
DTSTART;TZID=UTC:20220611T193000
DTEND;TZID=UTC:20220611T193000
DTSTAMP:20260420T072204
CREATED:20220614T134612Z
LAST-MODIFIED:20220614T134612Z
UID:9825-1654975800-1654975800@manisescityofceramics.es
SUMMARY:Performance "Estado de alarma"
DESCRIPTION:Actividad artística de improvisación y contacto directo con el espectador. Autora: Rafaela Pareja\, duración 35 minutos. Parc dels Filtres. Avinguda dels Tramvies\, 19. A las 19:30 h.
URL:https://manisescityofceramics.es/evento/performance-estado-de-alarma/
ATTACH;FMTTYPE=image/png:https://manisescityofceramics.es/wp-content/uploads/2022/06/Captura-de-pantalla-2022-06-14-a-las-13.39.04.png
END:VEVENT
BEGIN:VEVENT
DTSTART;TZID=UTC:20220613T140000
DTEND;TZID=UTC:20220613T140000
DTSTAMP:20260420T072204
CREATED:20220614T134905Z
LAST-MODIFIED:20220614T134905Z
UID:9830-1655128800-1655128800@manisescityofceramics.es
SUMMARY:Apertura exposición fotográfica de las obras premiadas de la XV BICM.
DESCRIPTION:Espacio expositivo de la T2 del aeropuerto de Manises. Carretera del Aeropuerto\, s/n\, Manises. A las 14:00 h.
URL:https://manisescityofceramics.es/evento/apertura-exposicion-fotografica-de-las-obras-premiadas-de-la-xv-bicm/
END:VEVENT
BEGIN:VEVENT
DTSTART;TZID=UTC:20220616T190000
DTEND;TZID=UTC:20220616T190000
DTSTAMP:20260420T072204
CREATED:20220614T135049Z
LAST-MODIFIED:20220614T135049Z
UID:9832-1655406000-1655406000@manisescityofceramics.es
SUMMARY:Conferencia "La incidencia del producto cerámico en el diseño de interior"
DESCRIPTION:a cargo de José Manuel Ferrero\, director de estudi{H}ac. Museo de Cerámica de Manises. Carrer del Sagrari\, 22. A las 19:00 h.
URL:https://manisescityofceramics.es/evento/conferencia-la-incidencia-del-producto-ceramico-en-el-diseno-de-interior/
ATTACH;FMTTYPE=image/jpeg:https://manisescityofceramics.es/wp-content/uploads/2022/06/G-16-6-22-BANNER-CONFERENCIA-JOSE-MANUEL-FERRERO-ESTUDIHAC.jpg
END:VEVENT
BEGIN:VEVENT
DTSTART;TZID=UTC:20220617T190000
DTEND;TZID=UTC:20220617T190000
DTSTAMP:20260420T072204
CREATED:20220614T135749Z
LAST-MODIFIED:20220614T135749Z
UID:9836-1655492400-1655492400@manisescityofceramics.es
SUMMARY:Cinefórum Cerámico
DESCRIPTION:Film: Niño qué\, España\, Alex Francés. Género: ensayo poético. Duración: 8 minutos. Capella de la Casa de Cultura i Joventut de Manises. Carrer Major\, 91. A las 19:00 h.
URL:https://manisescityofceramics.es/evento/cineforum-ceramico-2/
ATTACH;FMTTYPE=image/jpeg:https://manisescityofceramics.es/wp-content/uploads/2022/06/I-17-6-22-BANNER-CINE-FORUM-CERAMICO-1.jpg
END:VEVENT
BEGIN:VEVENT
DTSTART;TZID=UTC:20220617T190000
DTEND;TZID=UTC:20220617T193000
DTSTAMP:20260420T072204
CREATED:20220614T135339Z
LAST-MODIFIED:20220614T135339Z
UID:9834-1655492400-1655494200@manisescityofceramics.es
SUMMARY:Cinefórum Cerámico
DESCRIPTION:Film: Ben Nafa ka tia\, Francia\, Jeanne Delafosse. Género: documental etnográfico. Cooperativa de mujeres alfareras en Burkina Faso. Duración: 37 minutos.Capella de la Casa de Cultura i Joventut de Manises. Carrer Major\, 91. A las 19:00 h.
URL:https://manisescityofceramics.es/evento/cineforum-ceramico/
ATTACH;FMTTYPE=image/jpeg:https://manisescityofceramics.es/wp-content/uploads/2022/06/H-17-6-22-BANNER-CINE-FORUM-CERAMICO.jpg
END:VEVENT
BEGIN:VEVENT
DTSTART;TZID=UTC:20220618T190000
DTEND;TZID=UTC:20220618T190000
DTSTAMP:20260420T072204
CREATED:20220614T140004Z
LAST-MODIFIED:20220614T140004Z
UID:9838-1655578800-1655578800@manisescityofceramics.es
SUMMARY:Conferencia La política en la Cerámica a cargo de Xavier Monsalvatje Vich.
DESCRIPTION:Museo de Cerámica de Manises. Carrer del Sagrari\, 22. A las 19:00 h.
URL:https://manisescityofceramics.es/evento/conferencia-la-politica-en-la-ceramica-a-cargo-de-xavier-monsalvatje-vich/
ATTACH;FMTTYPE=image/png:https://manisescityofceramics.es/wp-content/uploads/2022/06/Captura-de-pantalla-2022-06-14-a-las-13.39.32-1.png
END:VEVENT
BEGIN:VEVENT
DTSTART;TZID=UTC:20220622T190000
DTEND;TZID=UTC:20220622T190000
DTSTAMP:20260420T072204
CREATED:20220614T140209Z
LAST-MODIFIED:20220614T140209Z
UID:9840-1655924400-1655924400@manisescityofceramics.es
SUMMARY:Conferencia "El diseño de producto cerámico en la Escola d'Art i Superior de Ceràmica de Manises"
DESCRIPTION:A cargo de Javier Colomer Ramos\, director de EA+SC Lugar: Museo de Cerámica de Manises. Carrer del Sagrari\, 22. A las 19:00 h.
URL:https://manisescityofceramics.es/evento/conferencia-el-diseno-de-producto-ceramico-en-la-escola-dart-i-superior-de-ceramica-de-manises/
ATTACH;FMTTYPE=image/png:https://manisescityofceramics.es/wp-content/uploads/2022/06/Captura-de-pantalla-2022-06-14-a-las-13.39.37.png
END:VEVENT
BEGIN:VEVENT
DTSTART;TZID=UTC:20220623T190000
DTEND;TZID=UTC:20220623T190000
DTSTAMP:20260420T072204
CREATED:20220614T141710Z
LAST-MODIFIED:20220614T141710Z
UID:9846-1656010800-1656010800@manisescityofceramics.es
SUMMARY:Cinefórum Cerámico
DESCRIPTION:Per molts anys\, amor meu» Claudi Casanovas\, España\, Ismael López y Rafaela Pareja. Género: documental.Duración: 15 minutos. Capella de la Casa de Cultura i Joventut de Manises. Carrer Major\, 91. A las 19:00 h.
URL:https://manisescityofceramics.es/evento/cineforum-ceramico-5/
ATTACH;FMTTYPE=image/png:https://manisescityofceramics.es/wp-content/uploads/2022/06/Captura-de-pantalla-2022-06-14-a-las-13.39.58.png
END:VEVENT
BEGIN:VEVENT
DTSTART;TZID=UTC:20220623T190000
DTEND;TZID=UTC:20220623T193000
DTSTAMP:20260420T072204
CREATED:20220614T140551Z
LAST-MODIFIED:20220614T140551Z
UID:9842-1656010800-1656012600@manisescityofceramics.es
SUMMARY:Cinefórum Cerámico
DESCRIPTION:Film: Temporalidad fosilizada\, España\, Ícaro Maiterena. Género: ensayo de artista.\nDuración: 17 minutos.Capella de la Casa de Cultura i Joventut de Manises. Carrer Major\, 91.\nA las 19:00 h.
URL:https://manisescityofceramics.es/evento/cineforum-ceramico-3/
ATTACH;FMTTYPE=image/png:https://manisescityofceramics.es/wp-content/uploads/2022/06/Captura-de-pantalla-2022-06-14-a-las-13.39.44.png
END:VEVENT
BEGIN:VEVENT
DTSTART;TZID=UTC:20220623T190000
DTEND;TZID=UTC:20220623T193000
DTSTAMP:20260420T072204
CREATED:20220614T141155Z
LAST-MODIFIED:20220614T141155Z
UID:9844-1656010800-1656012600@manisescityofceramics.es
SUMMARY:Cinefórum Cerámico
DESCRIPTION:Film: Argile\, Francia\, Michael Guerraz y Lauren Delbecque. Género: ficción. Duración: 18 minutos.Capella de la Casa de Cultura i Joventut de Manises. Carrer Major\, 91.\nA las 19:00 h.
URL:https://manisescityofceramics.es/evento/cineforum-ceramico-4/
ATTACH;FMTTYPE=image/png:https://manisescityofceramics.es/wp-content/uploads/2022/06/Captura-de-pantalla-2022-06-14-a-las-13.39.51.png
END:VEVENT
BEGIN:VEVENT
DTSTART;TZID=UTC:20220630T190000
DTEND;TZID=UTC:20220630T190000
DTSTAMP:20260420T072204
CREATED:20220614T141843Z
LAST-MODIFIED:20220614T141843Z
UID:9848-1656615600-1656615600@manisescityofceramics.es
SUMMARY:Videoconferencia de Mariana Monteagudo y proyección de la película "Uncanny: The Dolls of Mariana Monteagudo"
DESCRIPTION:Premio EMMY 2022)\, dirigido\npor la documentalista Elaine Minionis. Museo de Cerámica de Manises Carrer del Sagrari\, 22.\nA las 19:00 h
URL:https://manisescityofceramics.es/evento/videoconferencia-de-mariana-monteagudo-y-proyeccion-de-la-pelicula-uncanny-the-dolls-of-mariana-monteagudo/
ATTACH;FMTTYPE=image/png:https://manisescityofceramics.es/wp-content/uploads/2022/06/Captura-de-pantalla-2022-06-14-a-las-13.40.03.png
END:VEVENT
BEGIN:VEVENT
DTSTART;TZID=UTC:20220711T080000
DTEND;TZID=UTC:20220724T230000
DTSTAMP:20260420T072204
CREATED:20220714T143726Z
LAST-MODIFIED:20220714T143726Z
UID:9932-1657526400-1658703600@manisescityofceramics.es
SUMMARY:Concurso fotografía
DESCRIPTION:Concurso fotografía
URL:https://manisescityofceramics.es/evento/concurso-fotografia/
END:VEVENT
BEGIN:VEVENT
DTSTART;TZID=UTC:20220714T080000
DTEND;TZID=UTC:20220714T233000
DTSTAMP:20260420T072204
CREATED:20220714T143542Z
LAST-MODIFIED:20220714T143542Z
UID:9930-1657785600-1657841400@manisescityofceramics.es
SUMMARY:Homenaje al ceramista Antonio Cordero en el Auditorio Germanías.
DESCRIPTION:Homenaje al ceramista Antonio Cordero en el Auditorio Germanías.
URL:https://manisescityofceramics.es/evento/homenaje-al-ceramista-antonio-cordero-en-el-auditorio-germanias/
END:VEVENT
BEGIN:VEVENT
DTSTART;TZID=UTC:20220714T090000
DTEND;TZID=UTC:20220812T210000
DTSTAMP:20260420T072204
CREATED:20220714T143317Z
LAST-MODIFIED:20220714T143317Z
UID:9928-1657789200-1660338000@manisescityofceramics.es
SUMMARY:Inauguración exposición Artesanos Ceramistas en AVEC- Gremi
DESCRIPTION:Inauguración exposición Artesanos Ceramistas en AVEC- Gremio (hasta el 12 de agosto).
URL:https://manisescityofceramics.es/evento/inauguracion-exposicion-artesanos-ceramistas-en-avec-gremi/
END:VEVENT
END:VCALENDAR