BEGIN:VCALENDAR
VERSION:2.0
PRODID:-//Manises - ECPv5.14.2.1//NONSGML v1.0//EN
CALSCALE:GREGORIAN
METHOD:PUBLISH
X-WR-CALNAME:Manises
X-ORIGINAL-URL:https://manisescityofceramics.es/en/
X-WR-CALDESC:Events for Manises
REFRESH-INTERVAL;VALUE=DURATION:PT1H
X-Robots-Tag:noindex
X-PUBLISHED-TTL:PT1H
BEGIN:VTIMEZONE
TZID:UTC
BEGIN:STANDARD
TZOFFSETFROM:+0000
TZOFFSETTO:+0000
TZNAME:UTC
DTSTART:20180101T000000
END:STANDARD
END:VTIMEZONE
BEGIN:VEVENT
DTSTART;VALUE=DATE:20180919
DTEND;VALUE=DATE:20191116
DTSTAMP:20260425T030757
CREATED:20210309T191403Z
LAST-MODIFIED:20210309T191542Z
UID:5473-1537315200-1573862399@manisescityofceramics.es
SUMMARY:Manises and Paterna Exhibition
DESCRIPTION:Although the initial plan for the exhibition\, which opened on 19 October 2018\,  within the framework of the programme for the MCM’s 50th anniversary\,  was for it to run for a period of six months\, it was extended until the 15 November 2019 due to the high attendance figures. \nIn order to hold the exhibition\, the Ceramics Museum of Paterna temporarily gave up a part of its holdings and its director Ernesto Manzanedo also provided his assistance. \nA total of 150 objects\, belonging to both the Manises Ceramics Museum and the Paterna Museum were put on display. The presentation was carefully designed to highlight the similarities of the ceramics of these neighbouring towns in their first stages of production: manufacturing processes\, formal aspects and decorative element\, and\, thus\, demonstrate their continuing connection with the production of Valencian crockery.
URL:https://manisescityofceramics.es/en/evento/manises-and-paterna-exhibition/
ATTACH;FMTTYPE=image/jpeg:https://manisescityofceramics.es/wp-content/uploads/2021/03/cartel-expo-manises.jpg
END:VEVENT
BEGIN:VEVENT
DTSTART;VALUE=DATE:20190701
DTEND;VALUE=DATE:20190801
DTSTAMP:20260425T030757
CREATED:20210316T195347Z
LAST-MODIFIED:20210316T195456Z
UID:5940-1561939200-1564617599@manisescityofceramics.es
SUMMARY:Ceramics exhibition in Manises airport\, July 2019
DESCRIPTION:An exhibition of ceramics organised by the Manises Ceramics Museum\, whose objective was to reveal to visitors and users alike the history and culture of the city of Manises\, both of which are closely linked to ceramic craftwork. \nThe exhibition included six display cases containing a total of sixteen highly diverse pieces\, from vases\, decorative recipients\, plates and apothecary jars\, to tiles\, jugs and basil containers. It involved a selection from the ceramic craftwork workshops of Manises such as\, for example: José Gimeno’s La Cerámica Valenciana\, Sagen Ceramics\, DOMANISES\, Arturo Mora\, Teresa Lahuerta and Pepe Royo. \nIt was a great opportunity to make all those visiting Manises airport aware of the significance and quality of Manises’ ceramic craftwork.
URL:https://manisescityofceramics.es/en/evento/ceramics-exhibition-in-manises-airport-july-2019/
ATTACH;FMTTYPE=image/jpeg:https://manisescityofceramics.es/wp-content/uploads/2021/03/expo-aeropuerto.jpg
END:VEVENT
BEGIN:VEVENT
DTSTART;VALUE=DATE:20190712
DTEND;VALUE=DATE:20190713
DTSTAMP:20260425T030757
CREATED:20210301T173141Z
LAST-MODIFIED:20210301T173619Z
UID:5108-1562889600-1562975999@manisescityofceramics.es
SUMMARY:Five countries one vision- cinco países una visión
DESCRIPTION:An extraordinary exhibition of contemporary lustreware was held in the Ceramista Gimeno Hall in Manises from 12 July to 9 August 2019. \nThe artists\, from five very different countries like Iran\, Italy\, the United Kingdom\, Australia and Spain\, displayed a complete selection of pieces made using this ancient technique. \nLustreware is a ceramic technique that came into being 13 centuries ago in the  heart of the Islamic world. Starting in Mesopotamia\, Syria and Egypt\, the innovative lustreware technique followed the expansion of the Arab world across the Maghreb to Spain and\, later on\, to Italy. In the latter half of the nineteenth century\, it spread to England and then to the rest of Europe. \nThe prestige of the ceramic artists participating\, Abbas Akbari (Kashan\, Iran)\, Arturo Mora Benavent (Manises\, Spain)\, Giampietro Rampini (Gubbio\, Italy)\, Jonathan Chiswell Jones (Hankham\, UK)\, John Kuczwal (Wollongong\, Australia)\, and guest Joan Carrillo (Catalonia\, Spain)\, ensured that Manises was a culture centre for artists and lovers of ceramics in Europe for a few days. \n \nThe inauguration of the event included a performance by musicians Nora Pastor (singer)\, Eduard Navarro (duduk\, moraharpa\, paku and bagpipe) and Abbas Akbari (soor)\, who presented a show of medieval music with the following songs:\n1- La Dama d’Aragó. Duduk\n2- Cantiga de Santa Maria n° 42. Medieval gittern.\n3- Reis Glorios. Bagpipe.\n4- Mareta. Duduk.\n5- Traditional Swedish song. Moraharpa.
URL:https://manisescityofceramics.es/en/evento/five-countries-one-vision-cinco-paises-una-vision/
ATTACH;FMTTYPE=image/jpeg:https://manisescityofceramics.es/wp-content/uploads/2021/03/expo1.jpg
END:VEVENT
BEGIN:VEVENT
DTSTART;VALUE=DATE:20190712
DTEND;VALUE=DATE:20190831
DTSTAMP:20260425T030757
CREATED:20210316T194636Z
LAST-MODIFIED:20210316T195030Z
UID:5929-1562889600-1567209599@manisescityofceramics.es
SUMMARY:Exhibition of Artisans taking part in the “FESTA DE LA CERÀMICA”
DESCRIPTION:This exhibition is one of the most popular activities with the public\, amateurs and professionals alike. Here you are given the opportunity to appreciate an excellent array of artisan ceramics\, where different authors\, styles and techniques are perfectly combined. \nThe exhibition is held in the MUMAF exhibition hall and runs from mid-July to the end of August. The participation rate varies in each edition\, but it is always high\, attracting approximately thirty craftspeople who are not only local artists but come from all over Spain and abroad\, in order to exhibit their handicraft made with great care and dedication. \nAn important aspect of the exhibition is the fact that works by the craftspeople honoured in each edition of the Festa de la Ceràmica are retained. \nIn this section\, the outstanding pieces in the honoured artisan’s career\, ones that highlight the ceramic technique that best characterises them\, are put on display. \nThis activity also entails drawing up a brochure with the particulars of all the participants and which dedicates space to the honoured craftspeople. The brochure is likewise a means of promotion as it is available in the MUMAF exhibition hall as well as in the Tourist Information Office.
URL:https://manisescityofceramics.es/en/evento/exhibition-of-artisans-taking-part-in-the-festa-de-la-ceramica/
ATTACH;FMTTYPE=image/jpeg:https://manisescityofceramics.es/wp-content/uploads/2021/03/expo-artesanos-2-1.jpg
END:VEVENT
BEGIN:VEVENT
DTSTART;VALUE=DATE:20190713
DTEND;VALUE=DATE:20190714
DTSTAMP:20260425T030757
CREATED:20210301T133148Z
LAST-MODIFIED:20210301T172042Z
UID:5091-1562976000-1563062399@manisescityofceramics.es
SUMMARY:Conference Nasrid ceramics and lustreware collections in Manises
DESCRIPTION:A seminar on the history of lustreware in Manises was held in its culture centre on 13 July 2019. \nThe event\, which consisted in two talks and a documentary\, offered the following programme: \nNasrid ceramics and lustreware collections in Manises\, delivered by Mariam Rosser Owen curator in the Middle Eastern Section of the Asian Department and in charge of Arab world art collections in the Victoria and Albert museum in London. \nArchaeological digs in Manises\, delivered by Jaume Coll Conesa\, director of the National Museum of Ceramics and Sumptuary Arts González Martí. \nDocumentary Lustreware in Manises\, by Josep Pérez Camps\, scriptwriter and director of the short film. \nThe event was attended by ceramists and lovers of the culture of ceramics\, as well as the international participants in the Five Countries One Vision exhibition.
URL:https://manisescityofceramics.es/en/evento/nasrid-ceramics-and-lustreware-collections-in-manises/
ATTACH;FMTTYPE=image/jpeg:https://manisescityofceramics.es/wp-content/uploads/2021/03/jornadas-historia-ceramica.jpg
END:VEVENT
BEGIN:VEVENT
DTSTART;VALUE=DATE:20201028
DTEND;VALUE=DATE:20201101
DTSTAMP:20260425T030757
CREATED:20210302T090516Z
LAST-MODIFIED:20210302T091249Z
UID:5183-1603843200-1604188799@manisescityofceramics.es
SUMMARY:“MANIATIC”- Fantastic Film Festival of Manises
DESCRIPTION:Manises Fantastic Film Festival\, MANIATIC\, has been held in our city since 2017. \nThe festival was set up with the clear aim of supporting new talent in national and international fantastic cinema. To this end\, from the very first edition\, it was presented as the first fantastic cinema festival to pay for the films in the selection. \nThe project is sponsored by the department of Culture of Manises City Hall and the Valencian Institute of Cinematography (IVAC).\nThe festival has an official section with short films and a children’s section which does not compete. New this year in the festival is a section on feature films.\nDuring the course of the festival\, short films are presented by; directors\, producers\, photography directors\, art directors and actors of varying nationalities\, from home and abroad\, generating interesting conversations with the public and other local professionals in the audio-visual sector.\nAll the events connected with this festival such as the screenings\, are held in the “Auditori Germanies” in Manises .
URL:https://manisescityofceramics.es/en/evento/maniatic-fantastic-film-festival-of-manises/
ATTACH;FMTTYPE=image/jpeg:https://manisescityofceramics.es/wp-content/uploads/2021/03/cartel-maniatic.jpg
END:VEVENT
BEGIN:VEVENT
DTSTART;VALUE=DATE:20201217
DTEND;VALUE=DATE:20201218
DTSTAMP:20260425T030757
CREATED:20210309T190940Z
LAST-MODIFIED:20210309T191136Z
UID:5462-1608163200-1608249599@manisescityofceramics.es
SUMMARY:Handcrafted Ceramic Nativity Scene
DESCRIPTION:On 17 December 2020 and after many months of work\, artist Antonio Cordero Herrera donated a handcrafted ceramic nativity scene to Manises City Hall and the official presentation ceremony took place. \nCeramic artist Antonio Cordero Herrera made a handcrafted ceramic nativity scene exclusively for Manises City Hall. In it\, you will find typical scenes from a traditional Christmas crib such as: the Annunciation\, the Magi\, the shepherds adoring the child and the crib\, among others.\nAntonio Cordero took several months to complete the work\, in which he sculpted\, cooked and painted in the traditional way each and every one of the one hundred and forty four pieces making up this crib. \nSetting up the crib is a painstaking task as\, due to their great fragility\, each piece is packed individually to prevent breakages. Consequently\, each piece must be unwrapped\, and extreme care must be taken when setting up each scene. \nThus\, with this donation by Antonio Cordero\, the city of Manises can display its new ceramic Nativity scene every Christmas and it is sure to delight all those who decide to come and see it.
URL:https://manisescityofceramics.es/en/evento/handcrafted-ceramic-nativity-scene/
ATTACH;FMTTYPE=image/jpeg:https://manisescityofceramics.es/wp-content/uploads/2021/03/belen-ceramico-artesanal.jpg
END:VEVENT
BEGIN:VEVENT
DTSTART;TZID=UTC:20210309T080000
DTEND;TZID=UTC:20210309T170000
DTSTAMP:20260425T030757
CREATED:20210309T192402Z
LAST-MODIFIED:20210315T131232Z
UID:5768-1615276800-1615309200@manisescityofceramics.es
SUMMARY:Artesans a la taula exhibition
DESCRIPTION:Manises was present in the Central Market of Valencia with the collective exhibition “Artesans a la taula” from 12 to 20 July 2017. \nThis activity\, included in the acts organised for Valencia World Capital of Sustainable Food 2017\, and with a strong food-based theme\, was the meeting point for Manises artisans and businesses. Here they were given freedom to use their creativity to design and create a plate and a variety of tableware\, thus showing spectators the city’s great artistic wealth. \nIn addition\, to complete the experience\, the artisans gave a series of in situ demonstrations of the pottery wheel process as well as of painting\, and\, in the process\, explained some of the styles in ceramics to hundreds of visitors and tourists. \nArtists taking part in the exhibition were: \n\nAna Illueca\nAmparo Gimeno Moreno\nArturo Mora\nCerámicas Plat i Bol\nConxa Arjona\nDavid Sánchez\nFrancisco Mas\nGloria Lacruz\nJesús Robledo\nJuan Carlos Iñesta\nLa Ceràmica Valenciana\nOcobiam\nPatro Burgos\nPepe Royo\nPilar Valderrama\nRafa Mora Esteve
URL:https://manisescityofceramics.es/en/evento/artesans-a-la-taula-exhibition/
ATTACH;FMTTYPE=image/jpeg:https://manisescityofceramics.es/wp-content/uploads/2021/03/artesans-a-la-taula1.jpg
END:VEVENT
BEGIN:VEVENT
DTSTART;VALUE=DATE:20210526
DTEND;VALUE=DATE:20210527
DTSTAMP:20260425T030757
CREATED:20210521T115455Z
LAST-MODIFIED:20210621T115753Z
UID:8916-1621987200-1622073599@manisescityofceramics.es
SUMMARY:Presentation ADN Cerámico
DESCRIPTION:ADN Cerámico\, a project included in World Design Capital Valencia 2022\,  was presented on Wednesday\,  26 May.\nThe aim of the project is to show that ceramics created in the Valencian Community are a value that helps differentiate our design and territory.\nIts objectives are as follows:\n• To highlight contemporary references in order to inspire new generations of ceramists and designers.\n• To generate synergies with the industry\, leading to collaboration that will afford the industry new and innovative perspectives\, and provide ceramists with new skills and the chance to make their contribution truly international.\n• To highlight and recognize the work of our great master artisans\, because\, thanks to them\, the knowledge that is not recorded in books or schools can be passed on.\n• To professionalise the ceramic sector.\n• To generate  a strong ceramic identity.\nTo this end\, the first map of ceramists in the Comunitat Valenciana was presented at ADN Cerámico.\nWith its strong\, centuries-long tradition in ceramics\, Manises could not miss the event and\, even more so\, in such as special year as this when we are a candidate for UNESCO’s creative cities under the category of crafts and folk arts.\nThe following link includes all that the AND Cerámico project entails: https://adnceramico.com/
URL:https://manisescityofceramics.es/en/evento/presentation-adn-ceramico-2/
ATTACH;FMTTYPE=image/jpeg:https://manisescityofceramics.es/wp-content/uploads/2021/06/adn-ceramico-1.jpg
END:VEVENT
BEGIN:VEVENT
DTSTART;VALUE=DATE:20210526
DTEND;VALUE=DATE:20210527
DTSTAMP:20260425T030757
CREATED:20210526T113529Z
LAST-MODIFIED:20210621T114206Z
UID:8908-1621987200-1622073599@manisescityofceramics.es
SUMMARY:Presentation ADN Cerámico
DESCRIPTION:ADN Cerámico\, a project included in World Design Capital Valencia 2022\,  was presented on Wednesday\,  26 May.\nThe aim of the project is to show that ceramics created in the Valencian Community are a value that helps differentiate our design and territory.\nIts objectives are as follows:\n• To highlight contemporary references in order to inspire new generations of ceramists and designers.\n• To generate synergies with the industry\, leading to collaboration that will afford the industry new and innovative perspectives\, and provide ceramists with new skills and the chance to make their contribution truly international.\n• To highlight and recognize the work of our great master artisans\, because\, thanks to them\, the knowledge that is not recorded in books or schools can be passed on.\n• To professionalise the ceramic sector.\n• To generate  a strong ceramic identity.\nTo this end\, the first map of ceramists in the Comunitat Valenciana was presented at ADN Cerámico.\nWith its strong\, centuries-long tradition in ceramics\, Manises could not miss the event and\, even more so\, in such as special year as this when we are a candidate for UNESCO’s creative cities under the category of crafts and folk arts.\nThe following link includes all that the AND Cerámico project entails: https://adnceramico.com/
URL:https://manisescityofceramics.es/en/evento/presentation-adn-ceramico/
CATEGORIES:Eventos pasados
ATTACH;FMTTYPE=image/jpeg:https://manisescityofceramics.es/wp-content/uploads/2021/06/adn-ceramico-1.jpg
END:VEVENT
BEGIN:VEVENT
DTSTART;VALUE=DATE:20210610
DTEND;VALUE=DATE:20210611
DTSTAMP:20260425T030757
CREATED:20210615T075102Z
LAST-MODIFIED:20210615T075102Z
UID:8782-1623283200-1623369599@manisescityofceramics.es
SUMMARY:Exposición "Ceramic in Process"
DESCRIPTION:En el Centro de Artesanía de la Comunidad Valenciana podemos disfrutar de la exposición “Ceramic in Process” donde participa activamente la Escola d’Art i Superior de Ceràmica de Manises. \nLa exposición se puede visitar desde el 3 de junio hasta finales de septiembre. \nSe trata de una recopilación de las maneras tradicionales enseñadas en la Escuela de Arte y Superior de Cerámica de Manises\, así como los últimos sistemas tecnológicos que se han incorporado en la busca de obtener objetos sostenibles\, únicos y estéticamente agradables en un mundo dominado por la mecanización y la uniformidad. \nUna exposición que da el valor que se merece al arte de cerámica\, y por lo cual somos una firma candidata a obtener el título de Ciudad Creativa por la Unesco.
URL:https://manisescityofceramics.es/en/evento/exposicion-ceramic-in-process/
LOCATION:Centro de Artesanía de la Comunidad Valenciana\, España
ATTACH;FMTTYPE=image/jpeg:https://manisescityofceramics.es/wp-content/uploads/2021/06/cv-ceramic-process.jpeg
END:VEVENT
END:VCALENDAR